BEGIN:VCALENDAR
VERSION:2.0
PRODID:-//wp-events-plugin.com//7.2.3.1//EN
TZID:Europe/Dublin
X-WR-TIMEZONE:Europe/Dublin
BEGIN:VEVENT
UID:12@energystorageireland.com
DTSTART;TZID=Europe/Dublin:20261021T090000
DTEND;TZID=Europe/Dublin:20261022T170000
DTSTAMP:20260313T161414Z
URL:https://www.energystorageireland.com/events/renewable-energy-expo-irel
 and-2026/
SUMMARY:Renewable Energy Expo Ireland 2026
DESCRIPTION:Join us in Dublin on 21 and 22 October for the first ever Renew
 able Energy Expo\, showcasing industry leaders and businesses from Ireland
  and around the world working in solar\, storage and wind energy.\n\nRenew
 able energy is not just about delivering affordable\, clean and secure pow
 er to Irish families and businesses. It is also an enormous economic oppor
 tunity where the billions of euro spent every year on importing fossil fue
 ls can instead stay in Ireland\, creating new jobs\, growing new companies
 .\n\nFor exhibitors\, bringing Ireland’s three renewable energy industri
 es under the one roof gives you access to a broader and more diverse audie
 nce\, increased cross-sector engagement and exciting new networking opport
 unities. The Renewable Energy Expo will feature an expanded two-day progra
 mme\, including expert-led discussions\, cutting-edge new research and pra
 ctical workshops making this a must-attend event in 2026.\n\nThe first exh
 ibition stands are already gone\, the first international pavilions are al
 ready booked\, so act now and take your place alongside the people and com
 panies building Ireland’s clean energy future. You can find out more her
 e.\n\nProudly supported by Energy Storage Ireland\, Solar Ireland and Wind
  Energy Ireland.
ATTACH;FMTTYPE=image/jpeg:https://www.energystorageireland.com/wp-content/
 uploads/2026/03/LOGOWithDATE.jpg
CATEGORIES:Expo
LOCATION:RDS Main Arena\, Merrion Road\, Dublin\, Ireland
X-APPLE-STRUCTURED-LOCATION;VALUE=URI;X-ADDRESS=Merrion Road\, Dublin\, Ire
 land;X-APPLE-RADIUS=100;X-TITLE=RDS Main Arena:geo:0,0
END:VEVENT
BEGIN:VTIMEZONE
TZID:Europe/Dublin
X-LIC-LOCATION:Europe/Dublin
BEGIN:STANDARD
DTSTART:20260329T020000
TZOFFSETFROM:+0000
TZOFFSETTO:+0100
TZNAME:IST
END:STANDARD
END:VTIMEZONE
END:VCALENDAR