BEGIN:VCALENDAR
VERSION:2.0
PRODID:-//wp-events-plugin.com//7.2.3.1//EN
TZID:Europe/Dublin
X-WR-TIMEZONE:Europe/Dublin
BEGIN:VEVENT
UID:13@energystorageireland.com
DTSTART;TZID=Europe/Dublin:20261126T180000
DTEND;TZID=Europe/Dublin:20261126T230000
DTSTAMP:20260313T162530Z
URL:https://www.energystorageireland.com/events/renewable-energy-awards-20
 26/
SUMMARY:Renewable Energy Awards 2026
DESCRIPTION:The Renewable Energy Awards is a night to celebrate the wind\, 
 solar and storage industries!\n\nIt’s an opportunity to showcase the inn
 ovation\, impact and leadership happening across the renewable energy sect
 or.\n\nWe are open to companies seeking to sponsor an award:\n• Demonstr
 ate your organisation’s leadership in Ireland’s clean energy transitio
 n and in the energy storage sector\;\n• Raise your profile among key dev
 elopers\, policymakers and stakeholders\;\n• Align your brand with innov
 ation and ambition at the heart of the energy system.\n\nIf you’re inter
 ested in sponsoring or would like to discuss opportunities further please 
 contact events@energystorageireland.com\n\n&nbsp\;
ATTACH;FMTTYPE=image/jpeg:https://www.energystorageireland.com/wp-content/
 uploads/2026/03/AwardsLogosSparkle.png
CATEGORIES:Awards
LOCATION:Dublin Royal Convention Centre\, Ship Street Little\, Dublin\, Ire
 land
X-APPLE-STRUCTURED-LOCATION;VALUE=URI;X-ADDRESS=Ship Street Little\, Dublin
 \, Ireland;X-APPLE-RADIUS=100;X-TITLE=Dublin Royal Convention Centre:geo:0
 ,0
END:VEVENT
BEGIN:VTIMEZONE
TZID:Europe/Dublin
X-LIC-LOCATION:Europe/Dublin
BEGIN:DAYLIGHT
DTSTART:20261025T010000
TZOFFSETFROM:+0100
TZOFFSETTO:+0000
TZNAME:GMT
END:DAYLIGHT
END:VTIMEZONE
END:VCALENDAR